BEGIN:VCALENDAR
VERSION:2.0
PRODID:-//Move2Health Equity - ECPv6.15.18//NONSGML v1.0//EN
CALSCALE:GREGORIAN
METHOD:PUBLISH
X-WR-CALNAME:Move2Health Equity
X-ORIGINAL-URL:https://m2hequity.com
X-WR-CALDESC:Events for Move2Health Equity
REFRESH-INTERVAL;VALUE=DURATION:PT1H
X-Robots-Tag:noindex
X-PUBLISHED-TTL:PT1H
BEGIN:VTIMEZONE
TZID:America/New_York
BEGIN:DAYLIGHT
TZOFFSETFROM:-0500
TZOFFSETTO:-0400
TZNAME:EDT
DTSTART:20250309T070000
END:DAYLIGHT
BEGIN:STANDARD
TZOFFSETFROM:-0400
TZOFFSETTO:-0500
TZNAME:EST
DTSTART:20251102T060000
END:STANDARD
BEGIN:DAYLIGHT
TZOFFSETFROM:-0500
TZOFFSETTO:-0400
TZNAME:EDT
DTSTART:20260308T070000
END:DAYLIGHT
BEGIN:STANDARD
TZOFFSETFROM:-0400
TZOFFSETTO:-0500
TZNAME:EST
DTSTART:20261101T060000
END:STANDARD
BEGIN:DAYLIGHT
TZOFFSETFROM:-0500
TZOFFSETTO:-0400
TZNAME:EDT
DTSTART:20270314T070000
END:DAYLIGHT
BEGIN:STANDARD
TZOFFSETFROM:-0400
TZOFFSETTO:-0500
TZNAME:EST
DTSTART:20271107T060000
END:STANDARD
END:VTIMEZONE
BEGIN:VEVENT
DTSTART;TZID=America/New_York:20260609T120000
DTEND;TZID=America/New_York:20260609T130000
DTSTAMP:20260419T080940
CREATED:20260406T024855Z
LAST-MODIFIED:20260406T024855Z
UID:379-1781006400-1781010000@m2hequity.com
SUMMARY:Blue Ridge Hunger Action Coalition Meeting
DESCRIPTION:Our bi-monthly coalition meeting that is hosted over zoom and open to all those invested in food access in Charlottesville\, Albemarle\, Greene\, Fluvanna\, Louisa\, Nelson\, and Buckingham counties.
URL:https://m2hequity.com/event/blue-ridge-hunger-action-coalition-meeting-2/
CATEGORIES:Health Food Systems
ORGANIZER;CN="BRHAC":MAILTO:HACBlueRidge@gmail.com
END:VEVENT
END:VCALENDAR