BEGIN:VCALENDAR
VERSION:2.0
PRODID:-//Move2Health Equity - ECPv6.15.18//NONSGML v1.0//EN
CALSCALE:GREGORIAN
METHOD:PUBLISH
X-ORIGINAL-URL:https://m2hequity.com
X-WR-CALDESC:Events for Move2Health Equity
REFRESH-INTERVAL;VALUE=DURATION:PT1H
X-Robots-Tag:noindex
X-PUBLISHED-TTL:PT1H
BEGIN:VTIMEZONE
TZID:America/New_York
BEGIN:DAYLIGHT
TZOFFSETFROM:-0500
TZOFFSETTO:-0400
TZNAME:EDT
DTSTART:20250309T070000
END:DAYLIGHT
BEGIN:STANDARD
TZOFFSETFROM:-0400
TZOFFSETTO:-0500
TZNAME:EST
DTSTART:20251102T060000
END:STANDARD
BEGIN:DAYLIGHT
TZOFFSETFROM:-0500
TZOFFSETTO:-0400
TZNAME:EDT
DTSTART:20260308T070000
END:DAYLIGHT
BEGIN:STANDARD
TZOFFSETFROM:-0400
TZOFFSETTO:-0500
TZNAME:EST
DTSTART:20261101T060000
END:STANDARD
BEGIN:DAYLIGHT
TZOFFSETFROM:-0500
TZOFFSETTO:-0400
TZNAME:EDT
DTSTART:20270314T070000
END:DAYLIGHT
BEGIN:STANDARD
TZOFFSETFROM:-0400
TZOFFSETTO:-0500
TZNAME:EST
DTSTART:20271107T060000
END:STANDARD
END:VTIMEZONE
BEGIN:VEVENT
DTSTART;TZID=America/New_York:20260506T170000
DTEND;TZID=America/New_York:20260506T190000
DTSTAMP:20260421T054329
CREATED:20260404T042155Z
LAST-MODIFIED:20260406T024301Z
UID:325-1778086800-1778094000@m2hequity.com
SUMMARY:Medicaid Assister & Advocate Social
DESCRIPTION:Join us for a Medicaid Assister & Advocate social. This is a great time to get to know each other and grow our network of healthcare supporters!
URL:https://m2hequity.com/event/medicaid-assister-advocate-social/
LOCATION:UVA Center for Community Partnerships\, 201 W. Main Street\, Charlottesville\, Virginia\, 22902\, United States
CATEGORIES:Access to Healthcare
ORGANIZER;CN="Move2HealthEquity":MAILTO:M2Hequity@gmail.com
END:VEVENT
BEGIN:VEVENT
DTSTART;TZID=America/New_York:20260513T083000
DTEND;TZID=America/New_York:20260513T100000
DTSTAMP:20260421T054329
CREATED:20260404T043237Z
LAST-MODIFIED:20260406T024354Z
UID:327-1778661000-1778666400@m2hequity.com
SUMMARY:Move2Health Equity Coalition Meeting
DESCRIPTION:Our monthly large group coalition meeting that is hosted hybrid over zoom and in person at the UVA Center For Community Partnerships.
URL:https://m2hequity.com/event/move2health-equity-coalition-meetings-2/
LOCATION:UVA Center for Community Partnerships\, 201 W. Main Street\, Charlottesville\, Virginia\, 22902\, United States
CATEGORIES:Coalition Meeting
ORGANIZER;CN="Move2HealthEquity":MAILTO:M2Hequity@gmail.com
END:VEVENT
BEGIN:VEVENT
DTSTART;TZID=America/New_York:20260521T090000
DTEND;TZID=America/New_York:20260521T100000
DTSTAMP:20260421T054329
CREATED:20260404T043427Z
LAST-MODIFIED:20260406T025323Z
UID:329-1779354000-1779357600@m2hequity.com
SUMMARY:Access to Healthcare Meeting
DESCRIPTION:Our monthly action team meeting that is hosted over zoom and in person at the UVA Center for Community Partnerships. This meeting is open to all those invested in access to healthcare.
URL:https://m2hequity.com/event/access-to-healthcare-meeting-2/
LOCATION:UVA Center for Community Partnerships\, 201 W. Main Street\, Charlottesville\, Virginia\, 22902\, United States
CATEGORIES:Access to Healthcare
ORGANIZER;CN="Move2HealthEquity":MAILTO:M2Hequity@gmail.com
END:VEVENT
END:VCALENDAR